BEGIN:VCALENDAR
VERSION:2.0
PRODID:-//Dr Jonathan David - ECPv4.1.2//NONSGML v1.0//EN
CALSCALE:GREGORIAN
METHOD:PUBLISH
X-WR-CALNAME:Dr Jonathan David
X-ORIGINAL-URL:https://www.jonathan-david.org
X-WR-CALDESC:Events for Dr Jonathan David
BEGIN:VEVENT
DTSTART;TZID=Asia/Kuala_Lumpur:20160912T090000
DTEND;TZID=Asia/Kuala_Lumpur:20160915T180000
DTSTAMP:20260421T113902
CREATED:20141209T023825
LAST-MODIFIED:20160901T065310
UID:22521-1473670800-1473962400@www.jonathan-david.org
SUMMARY:Youth Congress
DESCRIPTION:[column width="1/1" last="true" title="" title_type="single" animation="none" implicit="true"]\nOperation 500 – Select Arrow Youth Intensive Finishing School\nRegistration Closing Date: Aug 31\, 2016\n\n \n\nConference catered to training the next generation of Glocal Leaders (ages 17-29). Select Arrows who through their local influence will have global Impact.\n\nWe are believing God for the Legacy Transfer. This will see the emergence of the Next Generation Leaders. A new breed without greed and a radical opposition to corruption and corrupt men! We choose to win by making a stand in righteousness.\n\nGod’s Kingdom will manifest through the Church Unusual as she rises and releases the man of God that has been waiting for the right time and momentum to kick-start the conquest. The next Generation will rise powerfully in the nations. God will initiate their movements and give them the courage to get out of the caves in the mountain and become God’s weapon in the front-lines of the battlefield\, moving them from cave-mentalities to battlefront mentalities. God will hand-pick these selected Arrows of Destiny.\n\n*Only send "trainable materials" who come highly recommended. Reference from leadership is required.\n\n[/column]
URL:https://www.jonathan-david.org/event/youth-congress-2016/
LOCATION:68\, Jalan Sungai Abong\, Taman Sakeh Baru\, Muar\, Johor\, 84000\, Malaysia
END:VEVENT
END:VCALENDAR